{ "currentVersion": 11.2, "serviceDescription": "

Aerometric Spring flight<\/span><\/p><\/div><\/div>", "name": "Union/raster_ADMIN_Aerometric2012", "description": "

Aerometric Spring flight<\/span><\/p><\/div><\/div>", "extent": { "xmin": -8614282.417764487, "ymin": 4981960.956989818, "xmax": -8545343.251576044, "ymax": 5035103.742897125, "spatialReference": { "wkid": 102100, "latestWkid": 3857 } }, "initialExtent": { "xmin": -8614282.417764487, "ymin": 4981960.956989818, "xmax": -8545343.251576044, "ymax": 5035103.742897125, "spatialReference": { "wkid": 102100, "latestWkid": 3857 } }, "fullExtent": { "xmin": -8614282.417764487, "ymin": 4981960.956989818, "xmax": -8545343.251576044, "ymax": 5035103.742897125, "spatialReference": { "wkid": 102100, "latestWkid": 3857 } }, "sortableFields": "", "bandCount": 4, "pixelType": "U8", "minValues": [ 0, 0, 0, 0 ], "maxValues": [ 255, 255, 255, 255 ], "meanValues": [ 75.88879435058824, 75.61517863659664, 73.79074861019608, 82.61223464382353 ], "stdvValues": [ 50.30831701176311, 48.439893220068164, 46.12725277851357, 53.852028858249795 ], "hasMultidimensions": false, "pixelSizeX": 0.30480060960121924, "pixelSizeY": 0.30480060960121924, "meanPixelSize": 0.30480060960121924, "datasetFormat": "FGDBR", "uncompressedSize": 157737649216, "blockWidth": 128, "blockHeight": 128, "compressionType": "LZ77", "bandNames": [ "Band_1", "Band_2", "Band_3", "Band_4" ], "allowCopy": true, "allowAnalysis": true, "itemAccess": false, "inspectionCapabilities": "", "minPixelSize": 0.07464553541190411, "maxPixelSize": 76.43702828507317, "copyrightText": "", "serviceDataType": "esriImageServiceDataTypeGeneric", "serviceSourceType": "esriImageServiceSourceTypeDataset", "objectIdField": "", "fields": [], "capabilities": "Mensuration,Image,Metadata", "defaultMosaicMethod": "Center", "allowedMosaicMethods": "", "sortField": "", "sortValue": null, "sortAscending": true, "mosaicOperator": "First", "defaultCompressionQuality": 75, "defaultResamplingMethod": "Bilinear", "maxImageHeight": 4100, "maxImageWidth": 15000, "singleFusedMapCache": true, "tileInfo": { "rows": 256, "cols": 256, "dpi": 96, "format": "MIXED", "compressionQuality": 75, "origin": { "x": -2.0037508342787E7, "y": 2.0037508342787E7 }, "spatialReference": { "wkid": 102100, "latestWkid": 3857 }, "lods": [ { "level": 0, "resolution": 156543.033928, "scale": 5.91657527591555E8 }, { "level": 1, "resolution": 78271.5169639999, "scale": 2.95828763795777E8 }, { "level": 2, "resolution": 39135.7584820001, "scale": 1.47914381897889E8 }, { "level": 3, "resolution": 19567.8792409999, "scale": 7.3957190948944E7 }, { "level": 4, "resolution": 9783.93962049996, "scale": 3.6978595474472E7 }, { "level": 5, "resolution": 4891.96981024998, "scale": 1.8489297737236E7 }, { "level": 6, "resolution": 2445.98490512499, "scale": 9244648.868618 }, { "level": 7, "resolution": 1222.99245256249, "scale": 4622324.434309 }, { "level": 8, "resolution": 611.49622628138, "scale": 2311162.217155 }, { "level": 9, "resolution": 305.748113140558, "scale": 1155581.108577 }, { "level": 10, "resolution": 152.874056570411, "scale": 577790.554289 }, { "level": 11, "resolution": 76.4370282850732, "scale": 288895.277144 }, { "level": 12, "resolution": 38.2185141425366, "scale": 144447.638572 }, { "level": 13, "resolution": 19.1092570712683, "scale": 72223.819286 }, { "level": 14, "resolution": 9.55462853563415, "scale": 36111.909643 }, { "level": 15, "resolution": 4.77731426794937, "scale": 18055.954822 }, { "level": 16, "resolution": 2.38865713397468, "scale": 9027.977411 }, { "level": 17, "resolution": 1.19432856685505, "scale": 4513.988705 }, { "level": 18, "resolution": 0.597164283559817, "scale": 2256.994353 }, { "level": 19, "resolution": 0.298582141647617, "scale": 1128.497176 }, { "level": 20, "resolution": 0.14929107082380833, "scale": 564.248588 }, { "level": 21, "resolution": 0.07464553541190416, "scale": 282.124294 }, { "level": 22, "resolution": 0.03732276770595208, "scale": 141.062147 }, { "level": 23, "resolution": 0.01866138385297604, "scale": 70.5310735 } ] }, "storageInfo": { "storageFormat": "esriMapCacheStorageModeCompactV2", "packetSize": 128 }, "cacheType": "Map", "allowRasterFunction": true, "rasterFunctionInfos": [ { "name": "None", "description": "", "help": "" } ], "rasterTypeInfos": [ { "name": "Raster Dataset", "description": "Supports all ArcGIS Raster Datasets", "help": "" } ], "mensurationCapabilities": "Basic", "hasHistograms": true, "hasColormap": false, "hasRasterAttributeTable": false, "minScale": 288895.277144, "maxScale": 282.124294, "minLOD": 11, "maxLOD": 21, "exportTilesAllowed": false, "supportsStatistics": false, "supportsAdvancedQueries": false, "editFieldsInfo": null, "ownershipBasedAccessControlForRasters": null, "allowComputeTiePoints": false, "useStandardizedQueries": true, "advancedQueryCapabilities": { "useStandardizedQueries": true, "supportsStatistics": false, "supportsOrderBy": false, "supportsDistinct": false, "supportsPagination": false }, "spatialReference": { "wkid": 102100, "latestWkid": 3857 } }